BEGIN:VCALENDAR
VERSION:2.0
PRODID:-//Michelle Travis - ECPv4.9.10//NONSGML v1.0//EN
CALSCALE:GREGORIAN
METHOD:PUBLISH
X-WR-CALNAME:Michelle Travis
X-ORIGINAL-URL:https://michelletravis.net
X-WR-CALDESC:Events for Michelle Travis
BEGIN:VTIMEZONE
TZID:America/Denver
BEGIN:DAYLIGHT
TZOFFSETFROM:-0700
TZOFFSETTO:-0600
TZNAME:MDT
DTSTART:20200308T090000
END:DAYLIGHT
BEGIN:STANDARD
TZOFFSETFROM:-0600
TZOFFSETTO:-0700
TZNAME:MST
DTSTART:20201101T080000
END:STANDARD
END:VTIMEZONE
BEGIN:VEVENT
DTSTART;TZID=America/Denver:20200414T173000
DTEND;TZID=America/Denver:20200414T192000
DTSTAMP:20260423T205955
CREATED:20200207T190839Z
LAST-MODIFIED:20200207T191140Z
UID:1083-1586885400-1586892000@michelletravis.net
SUMMARY:Writing for Change: USF Law Authors' Showcase
DESCRIPTION:
URL:https://michelletravis.net/event/writing-for-change-usf-law-authors-showcase/
LOCATION:University of San Francisco — Terrace Room\, 2130 Fulton St.\, San Francisco\, CA\, 94117\, United States
END:VEVENT
END:VCALENDAR