BEGIN:VCALENDAR
VERSION:2.0
PRODID:-//Michelle Travis - ECPv4.9.10//NONSGML v1.0//EN
CALSCALE:GREGORIAN
METHOD:PUBLISH
X-WR-CALNAME:Michelle Travis
X-ORIGINAL-URL:https://michelletravis.net
X-WR-CALDESC:Events for Michelle Travis
BEGIN:VTIMEZONE
TZID:America/Denver
BEGIN:DAYLIGHT
TZOFFSETFROM:-0700
TZOFFSETTO:-0600
TZNAME:MDT
DTSTART:20180311T090000
END:DAYLIGHT
BEGIN:STANDARD
TZOFFSETFROM:-0600
TZOFFSETTO:-0700
TZNAME:MST
DTSTART:20181104T080000
END:STANDARD
END:VTIMEZONE
BEGIN:VEVENT
DTSTART;TZID=America/Denver:20181216T160000
DTEND;TZID=America/Denver:20181216T160000
DTSTAMP:20260424T035513
CREATED:20180817T000825Z
LAST-MODIFIED:20181210T235723Z
UID:364-1544976000-1544976000@michelletravis.net
SUMMARY:WNBA-SF Author Showcase
DESCRIPTION: \nMichelle will be joining other members of the Women’s National Book Association for an author meet-and-greet at the world-renowned Book Passage in Corte Madera. The Book Passage has been named one of the top five community bookstores in the country. This free event is the perfect place to finish your holiday shopping and pick up a signed copy of Michelle’s debut picture book\, My Mom Has Two Jobs\, which celebrates working moms. \n
URL:https://michelletravis.net/event/wnba-sf-author-showcase/
LOCATION:The Book Passage\, 51 Tamal Vista Blvd.\, Corte Madera\, CA\, United States
END:VEVENT
END:VCALENDAR