BEGIN:VCALENDAR
VERSION:2.0
PRODID:-//Michelle Travis - ECPv4.9.10//NONSGML v1.0//EN
CALSCALE:GREGORIAN
METHOD:PUBLISH
X-WR-CALNAME:Michelle Travis
X-ORIGINAL-URL:https://michelletravis.net
X-WR-CALDESC:Events for Michelle Travis
BEGIN:VTIMEZONE
TZID:America/Denver
BEGIN:DAYLIGHT
TZOFFSETFROM:-0700
TZOFFSETTO:-0600
TZNAME:MDT
DTSTART:20190310T090000
END:DAYLIGHT
BEGIN:STANDARD
TZOFFSETFROM:-0600
TZOFFSETTO:-0700
TZNAME:MST
DTSTART:20191103T080000
END:STANDARD
END:VTIMEZONE
BEGIN:VEVENT
DTSTART;VALUE=DATE:20190423
DTEND;VALUE=DATE:20190425
DTSTAMP:20260424T033939
CREATED:20190121T181913Z
LAST-MODIFIED:20190208T215017Z
UID:601-1555977600-1556150399@michelletravis.net
SUMMARY:Visiting Author at Sacred Heart
DESCRIPTION:Details coming soon for a date in April. \n \n
URL:https://michelletravis.net/event/visiting-author-at-sacred-heart/
LOCATION:Sacred Heart\, 150 Valparaiso Ave.\, Atherton\, CA\, United States
END:VEVENT
END:VCALENDAR