BEGIN:VCALENDAR
VERSION:2.0
PRODID:-//Michelle Travis - ECPv4.9.10//NONSGML v1.0//EN
CALSCALE:GREGORIAN
METHOD:PUBLISH
X-WR-CALNAME:Michelle Travis
X-ORIGINAL-URL:https://michelletravis.net
X-WR-CALDESC:Events for Michelle Travis
BEGIN:VTIMEZONE
TZID:America/Denver
BEGIN:DAYLIGHT
TZOFFSETFROM:-0700
TZOFFSETTO:-0600
TZNAME:MDT
DTSTART:20190310T090000
END:DAYLIGHT
BEGIN:STANDARD
TZOFFSETFROM:-0600
TZOFFSETTO:-0700
TZNAME:MST
DTSTART:20191103T080000
END:STANDARD
END:VTIMEZONE
BEGIN:VEVENT
DTSTART;TZID=America/Denver:20190207T190000
DTEND;TZID=America/Denver:20190207T200000
DTSTAMP:20260424T005146
CREATED:20180810T183110Z
LAST-MODIFIED:20190111T014700Z
UID:351-1549566000-1549569600@michelletravis.net
SUMMARY:San Mateo Parents Club Speaker Series
DESCRIPTION: \nJoin Michelle to discuss her new children’s picture book\, My Mom Has Two Jobs\, which celebrates working moms. Michelle will share her journey from being a SMPC mom to becoming a published children’s book author—while working full-time as a law professor and raising two daughters. \nMichelle was inspired to write her book after many frustrating searches for children’s picture books that showcase working moms. In My Mom Has Two Jobs\, children proudly describe how their moms care for them in a very special way\, while also making the world better through their careers. The book highlights moms in a wide range of professions\, which gives parents a much-needed platform to talk with their kids about their work and to help kids see how parents bring the same love\, passion\, and dedication to both their parenting jobs and their professional jobs. \nThe event will include a discussion of Michelle’s path to becoming a children’s book author\, a short reading of a book excerpt\, Q&A\, and the opportunity to get your own signed copy of the book. The event is free and refreshments will be served. \n  \n
URL:https://michelletravis.net/event/san-mateo-parents-club-speaker-series/
LOCATION:The Garden by Equal Play\, 11 N. Ellsworth Ave.\, San Mateo\, CA\, United States
END:VEVENT
END:VCALENDAR