BEGIN:VCALENDAR
VERSION:2.0
PRODID:-//Michelle Travis - ECPv4.9.10//NONSGML v1.0//EN
CALSCALE:GREGORIAN
METHOD:PUBLISH
X-WR-CALNAME:Michelle Travis
X-ORIGINAL-URL:https://michelletravis.net
X-WR-CALDESC:Events for Michelle Travis
BEGIN:VTIMEZONE
TZID:America/Denver
BEGIN:DAYLIGHT
TZOFFSETFROM:-0700
TZOFFSETTO:-0600
TZNAME:MDT
DTSTART:20190310T090000
END:DAYLIGHT
BEGIN:STANDARD
TZOFFSETFROM:-0600
TZOFFSETTO:-0700
TZNAME:MST
DTSTART:20191103T080000
END:STANDARD
END:VTIMEZONE
BEGIN:VEVENT
DTSTART;TZID=America/Denver:20190524T080000
DTEND;TZID=America/Denver:20190524T170000
DTSTAMP:20260424T131508
CREATED:20190412T220941Z
LAST-MODIFIED:20190412T221130Z
UID:682-1558684800-1558717200@michelletravis.net
SUMMARY:Preview of Dads for Daughters (forthcoming with Mango Press)
DESCRIPTION:Grey Fellows Forum \n \n
URL:https://michelletravis.net/event/preview-of-dads-for-daughters-forthcoming-with-mango-press/
LOCATION:Stanford Law School\, Stanford University\, Stanford\, 94305\, United States
END:VEVENT
END:VCALENDAR