BEGIN:VCALENDAR
VERSION:2.0
PRODID:-//Michelle Travis - ECPv4.9.10//NONSGML v1.0//EN
CALSCALE:GREGORIAN
METHOD:PUBLISH
X-WR-CALNAME:Michelle Travis
X-ORIGINAL-URL:https://michelletravis.net
X-WR-CALDESC:Events for Michelle Travis
BEGIN:VTIMEZONE
TZID:America/Denver
BEGIN:DAYLIGHT
TZOFFSETFROM:-0700
TZOFFSETTO:-0600
TZNAME:MDT
DTSTART:20190310T090000
END:DAYLIGHT
BEGIN:STANDARD
TZOFFSETFROM:-0600
TZOFFSETTO:-0700
TZNAME:MST
DTSTART:20191103T080000
END:STANDARD
END:VTIMEZONE
BEGIN:VEVENT
DTSTART;TZID=America/Denver:20190925T150000
DTEND;TZID=America/Denver:20190925T170000
DTSTAMP:20260423T194326
CREATED:20190719T203745Z
LAST-MODIFIED:20190719T203745Z
UID:806-1569423600-1569430800@michelletravis.net
SUMMARY:Pecha Kucha Challenge:  Dads for Daughters book presentation
DESCRIPTION:
URL:https://michelletravis.net/event/pecha-kucha-challenge-dads-for-daughters-book-presentation/
LOCATION:Gleeson Library Monihan Atrium – Univeristy of San Francisco\, 2130 Fulton Street\, San Francisco\, CA\, 94117\, United States
END:VEVENT
END:VCALENDAR