BEGIN:VCALENDAR
VERSION:2.0
PRODID:-//Michelle Travis - ECPv4.9.10//NONSGML v1.0//EN
CALSCALE:GREGORIAN
METHOD:PUBLISH
X-WR-CALNAME:Michelle Travis
X-ORIGINAL-URL:https://michelletravis.net
X-WR-CALDESC:Events for Michelle Travis
BEGIN:VTIMEZONE
TZID:America/Denver
BEGIN:DAYLIGHT
TZOFFSETFROM:-0700
TZOFFSETTO:-0600
TZNAME:MDT
DTSTART:20200308T090000
END:DAYLIGHT
BEGIN:STANDARD
TZOFFSETFROM:-0600
TZOFFSETTO:-0700
TZNAME:MST
DTSTART:20201101T080000
END:STANDARD
END:VTIMEZONE
BEGIN:VEVENT
DTSTART;TZID=America/Denver:20200708T133000
DTEND;TZID=America/Denver:20200708T143000
DTSTAMP:20260423T205930
CREATED:20200705T164703Z
LAST-MODIFIED:20200706T155916Z
UID:1231-1594215000-1594218600@michelletravis.net
SUMMARY:Parenting during the Pandemic
DESCRIPTION:This is a virtual panel\, held on Zoom. Please arrive early. To register\, please email: debbie@mangopublishinggroup.com. \n
URL:https://michelletravis.net/event/parenting-during-the-pandemic/
END:VEVENT
END:VCALENDAR