BEGIN:VCALENDAR
VERSION:2.0
PRODID:-//Michelle Travis - ECPv4.9.10//NONSGML v1.0//EN
CALSCALE:GREGORIAN
METHOD:PUBLISH
X-WR-CALNAME:Michelle Travis
X-ORIGINAL-URL:https://michelletravis.net
X-WR-CALDESC:Events for Michelle Travis
BEGIN:VTIMEZONE
TZID:America/Denver
BEGIN:DAYLIGHT
TZOFFSETFROM:-0700
TZOFFSETTO:-0600
TZNAME:MDT
DTSTART:20190310T090000
END:DAYLIGHT
BEGIN:STANDARD
TZOFFSETFROM:-0600
TZOFFSETTO:-0700
TZNAME:MST
DTSTART:20191103T080000
END:STANDARD
END:VTIMEZONE
BEGIN:VEVENT
DTSTART;TZID=America/Denver:20190512T110000
DTEND;TZID=America/Denver:20190512T120000
DTSTAMP:20260424T005738
CREATED:20190411T041526Z
LAST-MODIFIED:20190506T183120Z
UID:652-1557658800-1557662400@michelletravis.net
SUMMARY:Mother's Day at The Reading Bug
DESCRIPTION: Join Michelle to celebrate Mother’s Day at the Reading Bug in San Carlos. Michelle will host a story time reading of My Mom Has Two Jobs\, along with a Mother’s Day craft. Pick up a signed copy of the book for your Mom! Refreshments will be served. \n
URL:https://michelletravis.net/event/mothers-day/
LOCATION:The Reading Bug\, 785 Laurel St.\, San Carlos\, CA\, United States
END:VEVENT
END:VCALENDAR