BEGIN:VCALENDAR
VERSION:2.0
PRODID:-//Michelle Travis - ECPv4.9.10//NONSGML v1.0//EN
CALSCALE:GREGORIAN
METHOD:PUBLISH
X-WR-CALNAME:Michelle Travis
X-ORIGINAL-URL:https://michelletravis.net
X-WR-CALDESC:Events for Michelle Travis
BEGIN:VTIMEZONE
TZID:America/Denver
BEGIN:DAYLIGHT
TZOFFSETFROM:-0700
TZOFFSETTO:-0600
TZNAME:MDT
DTSTART:20180311T090000
END:DAYLIGHT
BEGIN:STANDARD
TZOFFSETFROM:-0600
TZOFFSETTO:-0700
TZNAME:MST
DTSTART:20181104T080000
END:STANDARD
END:VTIMEZONE
BEGIN:VEVENT
DTSTART;TZID=America/Denver:20181020T123000
DTEND;TZID=America/Denver:20181020T160000
DTSTAMP:20260424T035544
CREATED:20181020T032029Z
LAST-MODIFIED:20181022T204755Z
UID:525-1540038600-1540051200@michelletravis.net
SUMMARY:Lit Crawl Book Fair
DESCRIPTION:Meet Michelle at the WNBA’s table at the San Francisco Lit Crawl Book Fair. Michelle will be selling signed copies of her debut children’s picture book\, My Mom Has Two Jobs\, which celebrates working moms. She will also be sharing information about the fantastic resources that the Women’s National Book Association has to offer women authors in the Bay Area. After the Book Fair\, you can join in the annual San Francisco Lit Crawl at various venues throughout the Mission District. \n
URL:https://michelletravis.net/event/lit-crawl-book-fair/
LOCATION:The Chapel\, 777 Valencia St.\, San Francisco\, CA\, United States
END:VEVENT
END:VCALENDAR