BEGIN:VCALENDAR
VERSION:2.0
PRODID:-//Michelle Travis - ECPv4.9.10//NONSGML v1.0//EN
CALSCALE:GREGORIAN
METHOD:PUBLISH
X-WR-CALNAME:Michelle Travis
X-ORIGINAL-URL:https://michelletravis.net
X-WR-CALDESC:Events for Michelle Travis
BEGIN:VTIMEZONE
TZID:America/Denver
BEGIN:DAYLIGHT
TZOFFSETFROM:-0700
TZOFFSETTO:-0600
TZNAME:MDT
DTSTART:20210314T090000
END:DAYLIGHT
BEGIN:STANDARD
TZOFFSETFROM:-0600
TZOFFSETTO:-0700
TZNAME:MST
DTSTART:20211107T080000
END:STANDARD
END:VTIMEZONE
BEGIN:VEVENT
DTSTART;TZID=America/Denver:20210326T063000
DTEND;TZID=America/Denver:20210326T073000
DTSTAMP:20260423T205628
CREATED:20210325T174858Z
LAST-MODIFIED:20210325T174858Z
UID:1358-1616740200-1616743800@michelletravis.net
SUMMARY:Gender Equity and Work/Family Integration in a Post-Pandemic World
DESCRIPTION:Women’s History Month Keynote Speaker \nPenn State Dickinson Law School (virtual event) \n \n
URL:https://michelletravis.net/event/gender-equity-and-work-family-integration-in-a-post-pandemic-world/
END:VEVENT
END:VCALENDAR