BEGIN:VCALENDAR
VERSION:2.0
PRODID:-//Michelle Travis - ECPv4.9.10//NONSGML v1.0//EN
CALSCALE:GREGORIAN
METHOD:PUBLISH
X-WR-CALNAME:Michelle Travis
X-ORIGINAL-URL:https://michelletravis.net
X-WR-CALDESC:Events for Michelle Travis
BEGIN:VTIMEZONE
TZID:America/Denver
BEGIN:DAYLIGHT
TZOFFSETFROM:-0700
TZOFFSETTO:-0600
TZNAME:MDT
DTSTART:20200308T090000
END:DAYLIGHT
BEGIN:STANDARD
TZOFFSETFROM:-0600
TZOFFSETTO:-0700
TZNAME:MST
DTSTART:20201101T080000
END:STANDARD
END:VTIMEZONE
BEGIN:VEVENT
DTSTART;TZID=America/Denver:20200930T080000
DTEND;TZID=America/Denver:20200930T090000
DTSTAMP:20260423T223759
CREATED:20200927T193033Z
LAST-MODIFIED:20200927T205155Z
UID:1312-1601452800-1601456400@michelletravis.net
SUMMARY:Fathering Together presents Dads for Daughters
DESCRIPTION: \n
URL:https://michelletravis.net/event/fathering-together-presents-dads-for-daughters/
END:VEVENT
END:VCALENDAR