BEGIN:VCALENDAR
VERSION:2.0
PRODID:-//Michelle Travis - ECPv4.9.10//NONSGML v1.0//EN
CALSCALE:GREGORIAN
METHOD:PUBLISH
X-WR-CALNAME:Michelle Travis
X-ORIGINAL-URL:https://michelletravis.net
X-WR-CALDESC:Events for Michelle Travis
BEGIN:VTIMEZONE
TZID:America/Denver
BEGIN:DAYLIGHT
TZOFFSETFROM:-0700
TZOFFSETTO:-0600
TZNAME:MDT
DTSTART:20200308T090000
END:DAYLIGHT
BEGIN:STANDARD
TZOFFSETFROM:-0600
TZOFFSETTO:-0700
TZNAME:MST
DTSTART:20201101T080000
END:STANDARD
END:VTIMEZONE
BEGIN:VEVENT
DTSTART;TZID=America/Denver:20200407T190000
DTEND;TZID=America/Denver:20200407T203000
DTSTAMP:20260423T173906
CREATED:20191202T233843Z
LAST-MODIFIED:20191213T225100Z
UID:1028-1586286000-1586291400@michelletravis.net
SUMMARY:Books Inc. (Opera Plaza) - Dads for Daughters - Meet the Author
DESCRIPTION: \n
URL:https://michelletravis.net/event/books-inc-opera-plaza-dads-for-daughters-meet-the-author/
LOCATION:Books\, Inc.\, 601 Van Ness Ave\, San Francisco\, CA\, United States
END:VEVENT
END:VCALENDAR