BEGIN:VCALENDAR
VERSION:2.0
PRODID:-//Michelle Travis - ECPv4.9.10//NONSGML v1.0//EN
CALSCALE:GREGORIAN
METHOD:PUBLISH
X-WR-CALNAME:Michelle Travis
X-ORIGINAL-URL:https://michelletravis.net
X-WR-CALDESC:Events for Michelle Travis
BEGIN:VTIMEZONE
TZID:America/Denver
BEGIN:DAYLIGHT
TZOFFSETFROM:-0700
TZOFFSETTO:-0600
TZNAME:MDT
DTSTART:20200308T090000
END:DAYLIGHT
BEGIN:STANDARD
TZOFFSETFROM:-0600
TZOFFSETTO:-0700
TZNAME:MST
DTSTART:20201101T080000
END:STANDARD
END:VTIMEZONE
BEGIN:VEVENT
DTSTART;VALUE=DATE:20200128
DTEND;VALUE=DATE:20200129
DTSTAMP:20260423T175944
CREATED:20190930T203237Z
LAST-MODIFIED:20191119T192410Z
UID:934-1580169600-1580255999@michelletravis.net
SUMMARY:Book Launch -- Dads For Daughters
DESCRIPTION: \n
URL:https://michelletravis.net/event/book-launch-dads-for-daughters/
END:VEVENT
END:VCALENDAR