BEGIN:VCALENDAR
VERSION:2.0
PRODID:-//Michelle Travis - ECPv4.9.10//NONSGML v1.0//EN
CALSCALE:GREGORIAN
METHOD:PUBLISH
X-WR-CALNAME:Michelle Travis
X-ORIGINAL-URL:https://michelletravis.net
X-WR-CALDESC:Events for Michelle Travis
BEGIN:VTIMEZONE
TZID:America/Denver
BEGIN:DAYLIGHT
TZOFFSETFROM:-0700
TZOFFSETTO:-0600
TZNAME:MDT
DTSTART:20210314T090000
END:DAYLIGHT
BEGIN:STANDARD
TZOFFSETFROM:-0600
TZOFFSETTO:-0700
TZNAME:MST
DTSTART:20211107T080000
END:STANDARD
END:VTIMEZONE
BEGIN:VEVENT
DTSTART;TZID=America/Denver:20210322T160000
DTEND;TZID=America/Denver:20210322T170000
DTSTAMP:20260423T223641
CREATED:20210216T162435Z
LAST-MODIFIED:20210216T162435Z
UID:1347-1616428800-1616432400@michelletravis.net
SUMMARY:Becoming a Workplace Ally
DESCRIPTION:Moderating a panel titled\, “Becoming a Workplace Ally” as part of the #StandUpDads Gender Equity Summit hosted by Fathering Together \n \n
URL:https://michelletravis.net/event/becoming-a-workplace-ally/
END:VEVENT
END:VCALENDAR