BEGIN:VCALENDAR
VERSION:2.0
PRODID:-//Michelle Travis - ECPv4.9.10//NONSGML v1.0//EN
CALSCALE:GREGORIAN
METHOD:PUBLISH
X-WR-CALNAME:Michelle Travis
X-ORIGINAL-URL:https://michelletravis.net
X-WR-CALDESC:Events for Michelle Travis
BEGIN:VTIMEZONE
TZID:America/Denver
BEGIN:DAYLIGHT
TZOFFSETFROM:-0700
TZOFFSETTO:-0600
TZNAME:MDT
DTSTART:20210314T090000
END:DAYLIGHT
BEGIN:STANDARD
TZOFFSETFROM:-0600
TZOFFSETTO:-0700
TZNAME:MST
DTSTART:20211107T080000
END:STANDARD
END:VTIMEZONE
BEGIN:VEVENT
DTSTART;TZID=America/Denver:20210122T120000
DTEND;TZID=America/Denver:20210122T133000
DTSTAMP:20260423T211316
CREATED:20201221T202800Z
LAST-MODIFIED:20201221T202808Z
UID:1327-1611316800-1611322200@michelletravis.net
SUMMARY:2021 USF Law Review Symposium - Exploitation to Empowerment: Leveraging the Law for Survivors of Human Trafficking
DESCRIPTION: \n
URL:https://michelletravis.net/event/2021-usf-law-review-symposium-exploitation-to-empowerment-leveraging-the-law-for-survivors-of-human-trafficking/
END:VEVENT
END:VCALENDAR